BEGIN:VCALENDAR
VERSION:2.0
CALSCALE:GREGORIAN
METHOD:PUBLISH
PRODID://SVAC//1409629
BEGIN:VEVENT
DTSTAMP:20260421T071526
VTIMEZONE:America/Phoenix
DTSTART:20260412T010000Z
DTEND:20260412T040000Z
UID:1409629
SUMMARY:2nd Annual Style at Sunset Go Red Gala
LOCATION:Soldier Greek Business Center, 665 North Garden Ave., Sierra Vista, AZ, 85635
DESCRIPTION:2nd Annual Style at Sunset Go Red Gala\n\n04/11/26 06:00 PM MT\n - 04/11/26 09:00 PM MT\Description:\nThe Miss Sierra Vista Scholarship Foundation, a 501c3 Non-profit organization, presents our 2nd Annual Go Red Gala Fundraiser! Enjoy an evening of elegance, food, and raffle prizes as we raise funds for the American Heart Association while providing scholarship opportunities to young women throughout Cochise and Pima Counties. \nWe will have a special guest speaker and each of our titleholders' will do a presentation on their individual Service Initiative.\nA huge thank you to our sponsors The Legacy Foundation and the Cochise County Sheriff's Office!\Details:\nTickets are $30 each at the door or through Zelle at misssierravistaaz@gmail.com.\nTickets purchased through our website at https://misssierravista.com are $35 each.\Location:\nSoldier Greek Business Center\n665 North Garden Ave.\nSierra Vista, AZ 85635
X-ALT-DESC;FMTTYPE=text/html:2nd Annual Style at Sunset Go Red Gala<br /><br />04/11/26 06:00 PM MT - 04/11/26 09:00 PM MT<br />Description:<br />The Miss Sierra Vista Scholarship Foundation, a 501c3 Non-profit organization, presents our 2nd Annual Go Red Gala Fundraiser! Enjoy an evening of elegance, food, and raffle prizes as we raise funds for the American Heart Association while providing scholarship opportunities to young women throughout Cochise and Pima Counties.&nbsp;<br />
We will have a special guest speaker and each of our titleholders' will do a presentation on their individual&nbsp;Service Initiative.<br />
A huge thank you to our sponsors The Legacy Foundation and the Cochise County Sheriff's Office!<br />Details:<br />Tickets are $30 each at the door or through Zelle at misssierravistaaz@gmail.com.<br />
Tickets purchased through our website at https://misssierravista.com are $35 each.<br />Location:<br />Soldier Greek Business Center<br />665 North Garden Ave.<br />Sierra Vista, AZ 85635
PRIORITY:3
TRANSP:TRANSPARENT
BEGIN:VALARM
TRIGGER:-PT5M
ACTION:DISPLAY
DESCRIPTION:Reminder
END:VALARM
END:VEVENT
END:VCALENDAR
