BEGIN:VCALENDAR
VERSION:2.0
CALSCALE:GREGORIAN
METHOD:PUBLISH
PRODID://HAVR//1409636
BEGIN:VEVENT
DTSTAMP:20260424T101544
VTIMEZONE:America/New_York
DTSTART:20260218T130000Z
DTEND:20260218T140000Z
UID:1409636
SUMMARY:Coffee & Connections Hosted at Key Point Health Services
LOCATION:Key Point Health Services, 135 N. Parke St., Aberdeen
DESCRIPTION:Coffee & Connections Hosted at Key Point Health Services\n\n02/18/26 08:00 AM EST\n - 02/18/26 09:00 AM EST\Description:\nJoin us for Coffee & Connections, your opportunity to network with dozens of local business professionals and receive increased promotion and visibility for your business! \nThis event is for HARFORD COUNTY Chamber members but First- or second-time guests and prospective members are welcome to attend free of charge to check out the event and network. Whether you are a new member of the Chamber, a new representative looking to engage on behalf of your organization, or a seasoned networker looking to connect with others in our local Harford County business community, Coffee & Connections is for you!\n\nThere will be ample time of open networking and connecting with business representatives! Be sure to drop your business card in the bowl to be included on and receive our follow-up email with attendee contact information to continue to grow your network! For registration and more information, visit Harford County Chamber of Commerce!\Location:\nKey Point Health Services\n135 N. Parke St.\nAberdeen,
X-ALT-DESC;FMTTYPE=text/html:Coffee & Connections Hosted at Key Point Health Services<br /><br />02/18/26 08:00 AM EST - 02/18/26 09:00 AM EST<br />Description:<br />Join us for Coffee &amp; Connections, your opportunity to network with dozens of local business professionals and receive increased promotion and visibility for your business!&nbsp;
<p data-pm-slice="1 1 []">This event is for HARFORD COUNTY Chamber members <strong><u>but</u></strong> First- or second-time guests and prospective members are welcome to attend free of charge to check out the event and network.&nbsp;Whether you are a new member of the Chamber, a new representative looking to engage on behalf of your organization, or a seasoned networker looking to connect with others in our local Harford County business community, Coffee &amp; Connections is for you!</p>
<br />
There will be ample time of open networking and connecting with business representatives! Be sure to drop your business card in the bowl to be included on and receive our follow-up email with attendee contact information to continue to grow your network! For registration and more information, visit<a href="https://business.harfordchamber.org/events/details/coffee-connections-hosted-at-key-point-health-services-15706">&nbsp;Harford County Chamber&nbsp;of Commerce</a>!<br />Location:<br />Key Point Health Services<br />135 N. Parke St.<br />Aberdeen,  
PRIORITY:3
TRANSP:TRANSPARENT
BEGIN:VALARM
TRIGGER:-PT5M
ACTION:DISPLAY
DESCRIPTION:Reminder
END:VALARM
END:VEVENT
END:VCALENDAR
