BEGIN:VCALENDAR
VERSION:2.0
CALSCALE:GREGORIAN
METHOD:PUBLISH
PRODID://KING//1409696
BEGIN:VEVENT
DTSTAMP:20260422T065724
VTIMEZONE:America/Phoenix
DTSTART:20261111T003000Z
DTEND:20261111T020000Z
UID:1409696
SUMMARY:Ambassador Meeting
LOCATION:Mohave College Beale St. Center, 309 E. Beale St., Kingman, AZ, 86401
DESCRIPTION:Ambassador Meeting\n\n11/10/26 05:30 PM MT\n - 11/10/26 07:00 PM MT\Description:\nAmbassador Committee – Where Community Connection Comes to Life\n \nThe Ambassador Committee plays a vital role in strengthening the bond between the Chamber and our members. Serving within the direction of our Board of Directors, this dedicated group helps champion member engagement, support retention, and uplift the spirit of local business.\n \nAmbassadors are at the heart of many of our signature events that include welcoming guests, assisting with programs, and ensuring the Chamber’s activities run smoothly. They bring energy, visibility, and a warm Kingman welcome wherever they go, truly serving as the voice and frontline cheerleaders of the Chamber.\n \nJoining the Ambassador Committee is not only a chance to get involved, it’s a strategic opportunity to elevate your business presence. Ambassadors gain frequent public exposure at Chamber events, ribbon cuttings, mixers, and community activities, making it a powerful way to build relationships, increase visibility, and position your business as an active leader in Kingman’s growth.\n \nIf you love connecting with people, building meaningful relationships, and helping our business community thrive, this committee is a perfect fit. It’s a great way to meet new people, grow your leadership skills, and make a tangible impact.\n \nMeetings are held on the second Tuesday of each month at 5:30 PM*\n*Dates and locations may change as needed.\nPrequalification: To serve as a Chamber Ambassador, you must be an owner, employee, or organizational representative of a business or nonprofit whose membership is currently in good standing with the Kingman Area Chamber of Commerce.\n\Location:\nMohave College Beale St. Center\n309 E. Beale St.\nKingman, AZ 86401
X-ALT-DESC;FMTTYPE=text/html:Ambassador Meeting<br /><br />11/10/26 05:30 PM MT - 11/10/26 07:00 PM MT<br />Description:<br /><span style="font-size:14px"><strong>Ambassador Committee &ndash; Where Community Connection Comes to Life</strong><br />
&nbsp;<br />
<span style="font-family:arial,helvetica,sans-serif">The Ambassador Committee plays a vital role in strengthening the bond between the Chamber and our members. Serving within the direction of our Board of Directors, this dedicated group helps champion member engagement, support retention, and uplift the spirit of local business.<br />
&nbsp;<br />
Ambassadors are at the heart of many of our signature events that include welcoming guests, assisting with programs, and ensuring the Chamber&rsquo;s activities run smoothly. They bring energy, visibility, and a warm Kingman welcome wherever they go, truly serving as the voice and frontline cheerleaders of the Chamber.<br />
&nbsp;<br />
Joining the Ambassador Committee is not only a chance to get involved, it&rsquo;s a strategic opportunity to elevate your business presence. Ambassadors gain frequent public exposure at Chamber events, ribbon cuttings, mixers, and community activities, making it a powerful way to build relationships, increase visibility, and position your business as an active leader in Kingman&rsquo;s growth.<br />
&nbsp;<br />
If you love connecting with people, building meaningful relationships, and helping our business community thrive, this committee is a perfect fit. It&rsquo;s a great way to meet new people, grow your leadership skills, and make a tangible impact.<br />
&nbsp;<br />
<strong>Meetings are held on the second Tuesday of each month at 5:30 PM*</strong><br />
<em>*Dates and locations may change as needed.</em></span></span>
<p><span style="font-size:14px"><strong>Prequalification:</strong> To serve as a Chamber Ambassador, you must be an owner, employee, or organizational representative of a business or nonprofit whose membership is currently in good standing with the Kingman Area Chamber of Commerce.</span></p>
<br />Location:<br />Mohave College Beale St. Center<br />309 E. Beale St.<br />Kingman, AZ 86401
PRIORITY:3
TRANSP:TRANSPARENT
BEGIN:VALARM
TRIGGER:-PT5M
ACTION:DISPLAY
DESCRIPTION:Reminder
END:VALARM
END:VEVENT
END:VCALENDAR
