BEGIN:VCALENDAR
VERSION:2.0
CALSCALE:GREGORIAN
METHOD:PUBLISH
PRODID://RRCC//1409927
BEGIN:VEVENT
DTSTAMP:20260420T032415
VTIMEZONE:America/Chicago
DTSTART:20260219T170000Z
DTEND:20260219T190000Z
UID:1409927
SUMMARY:CORE Health Systems Open House
LOCATION:Community Healthcore, 106 N. MLK Blvd., Clarksville, TX, 75426
DESCRIPTION:CORE Health Systems Open House\n\n02/19/26 11:00 AM CST\n - 02/19/26 01:00 PM CST\Description:\nCORE Health Systems, a program of Community Healthcore will host an Open House on Thursday, February 19, 2026 from 11:00 a.m. to 1:00 p..m. in their office located at 106 North MLK Blvd. in Clarksville, Texas.  The event will showcase the primary care and psychiatry services the facility provides for children and adults.  Light refreshments will be served.\n\nFor more information:\nEmail:   events@communityhealthcore.com\nWebsite:  www.corehealthsystems.org \n\n \Location:\nCommunity Healthcore\n106 N. MLK Blvd.\nClarksville, TX 75426
X-ALT-DESC;FMTTYPE=text/html:CORE Health Systems Open House<br /><br />02/19/26 11:00 AM CST - 02/19/26 01:00 PM CST<br />Description:<br />CORE Health Systems, a program of Community Healthcore will host an Open House on Thursday, February 19, 2026 from 11:00 a.m. to 1:00 p..m. in their office located at 106 North MLK Blvd. in Clarksville, Texas.&nbsp; The event will showcase&nbsp;the primary care and psychiatry services the facility provides&nbsp;for children and adults.&nbsp; Light&nbsp;refreshments will be served.<br />
<br />
For more information:<br />
Email:&nbsp; &nbsp;events@communityhealthcore.com<br />
Website:&nbsp; www.corehealthsystems.org&nbsp;<br />
<br />
&nbsp;<br />Location:<br />Community Healthcore<br />106 N. MLK Blvd.<br />Clarksville, TX 75426
PRIORITY:3
TRANSP:TRANSPARENT
BEGIN:VALARM
TRIGGER:-PT5M
ACTION:DISPLAY
DESCRIPTION:Reminder
END:VALARM
END:VEVENT
END:VCALENDAR
