BEGIN:VCALENDAR
VERSION:2.0
CALSCALE:GREGORIAN
METHOD:PUBLISH
PRODID://TSCC//1409961
BEGIN:VEVENT
DTSTAMP:20260424T123214
VTIMEZONE:America/Denver
DTSTART:20260220T010000Z
DTEND:20260220T030000Z
UID:1409961
SUMMARY:2026 Awards Banquet
LOCATION:Northridge Valley Event Center, 975 East Northridge Dr. , Mapleton, UT, 84664
DESCRIPTION:2026 Awards Banquet\n\n02/19/26 06:00 PM MST\n - 02/19/26 08:00 PM MST\Description:\nJoin us for the 2026 Annual Awards Banquet at the magical Northridge Valley Event Center, located in beautiful Mapleton. This special evening will celebrate the businesses, leaders, and community members who make our area thrive. Enjoy an elegant night of connection, recognition, and community as we honor those who help shape the future of Springville and Mapleton.\Location:\nNorthridge Valley Event Center\n975 East Northridge Dr. \nMapleton, UT 84664
X-ALT-DESC;FMTTYPE=text/html:2026 Awards Banquet<br /><br />02/19/26 06:00 PM MST - 02/19/26 08:00 PM MST<br />Description:<br /><strong data-end="124" data-start="78">Join us for the 2026 Annual Awards Banquet</strong> at the magical Northridge Valley Event Center, located in beautiful Mapleton. This special evening will celebrate the businesses, leaders, and community members who make our area thrive. Enjoy an elegant night of connection, recognition, and community as we honor those who help shape the future of Springville and Mapleton.<br />Location:<br />Northridge Valley Event Center<br />975 East Northridge Dr. <br />Mapleton, UT 84664
PRIORITY:3
TRANSP:TRANSPARENT
BEGIN:VALARM
TRIGGER:-PT5M
ACTION:DISPLAY
DESCRIPTION:Reminder
END:VALARM
END:VEVENT
END:VCALENDAR
