BEGIN:VCALENDAR
VERSION:2.0
CALSCALE:GREGORIAN
METHOD:PUBLISH
PRODID://LASS//1410286
BEGIN:VEVENT
DTSTAMP:20260424T101545
VTIMEZONE:America/Los_Angeles
DTSTART:20260217T173000Z
DTEND:20260217T190000Z
UID:1410286
SUMMARY:Coffee With CASA
LOCATION:
DESCRIPTION:Coffee With CASA\n\n02/17/26 09:30 AM PST\n - 02/17/26 11:00 AM PST
X-ALT-DESC;FMTTYPE=text/html:Coffee With CASA<br /><br />02/17/26 09:30 AM PST - 02/17/26 11:00 AM PST
PRIORITY:3
TRANSP:TRANSPARENT
BEGIN:VALARM
TRIGGER:-PT5M
ACTION:DISPLAY
DESCRIPTION:Reminder
END:VALARM
END:VEVENT
END:VCALENDAR
