BEGIN:VCALENDAR
VERSION:2.0
CALSCALE:GREGORIAN
METHOD:PUBLISH
PRODID://LASS//1410292
BEGIN:VEVENT
DTSTAMP:20260424T101545
VTIMEZONE:America/Los_Angeles
DTSTART:20260213T020000Z
DTEND:20260213T043000Z
UID:1410292
SUMMARY:Broadway Lovers Bingo
LOCATION:
DESCRIPTION:Broadway Lovers Bingo\n\n02/12/26 06:00 PM PST\n - 02/12/26 08:30 PM PST
X-ALT-DESC;FMTTYPE=text/html:Broadway Lovers Bingo<br /><br />02/12/26 06:00 PM PST - 02/12/26 08:30 PM PST
PRIORITY:3
TRANSP:TRANSPARENT
BEGIN:VALARM
TRIGGER:-PT5M
ACTION:DISPLAY
DESCRIPTION:Reminder
END:VALARM
END:VEVENT
END:VCALENDAR
