BEGIN:VCALENDAR
VERSION:2.0
CALSCALE:GREGORIAN
METHOD:PUBLISH
PRODID://LASS//1410293
BEGIN:VEVENT
DTSTAMP:20260424T101702
VTIMEZONE:America/Los_Angeles
DTSTART:20260301T010000Z
DTEND:20260301T033000Z
UID:1410293
SUMMARY:13th Annual Susanville Chapter Banquet
LOCATION:
DESCRIPTION:13th Annual Susanville Chapter Banquet\n\n02/28/26 05:00 PM PST\n - 02/28/26 07:30 PM PST
X-ALT-DESC;FMTTYPE=text/html:13th Annual Susanville Chapter Banquet<br /><br />02/28/26 05:00 PM PST - 02/28/26 07:30 PM PST
PRIORITY:3
TRANSP:TRANSPARENT
BEGIN:VALARM
TRIGGER:-PT5M
ACTION:DISPLAY
DESCRIPTION:Reminder
END:VALARM
END:VEVENT
END:VCALENDAR
