BEGIN:VCALENDAR
VERSION:2.0
CALSCALE:GREGORIAN
METHOD:PUBLISH
PRODID://LASS//1410294
BEGIN:VEVENT
DTSTAMP:20260424T101651
VTIMEZONE:America/Los_Angeles
DTSTART:20260215T010000Z
DTEND:20260215T033000Z
UID:1410294
SUMMARY:AGAPE Dinner
LOCATION:
DESCRIPTION:AGAPE Dinner\n\n02/14/26 05:00 PM PST\n - 02/14/26 07:30 PM PST
X-ALT-DESC;FMTTYPE=text/html:AGAPE Dinner<br /><br />02/14/26 05:00 PM PST - 02/14/26 07:30 PM PST
PRIORITY:3
TRANSP:TRANSPARENT
BEGIN:VALARM
TRIGGER:-PT5M
ACTION:DISPLAY
DESCRIPTION:Reminder
END:VALARM
END:VEVENT
END:VCALENDAR
