BEGIN:VCALENDAR
VERSION:2.0
CALSCALE:GREGORIAN
METHOD:PUBLISH
PRODID://LASS//1410296
BEGIN:VEVENT
DTSTAMP:20260424T101615
VTIMEZONE:America/Los_Angeles
DTSTART:20260214T190000Z
DTEND:20260214T230000Z
UID:1410296
SUMMARY:Saturday Children's Program
LOCATION:
DESCRIPTION:Saturday Children's Program\n\n02/14/26 11:00 AM PST\n - 02/14/26 03:00 PM PST
X-ALT-DESC;FMTTYPE=text/html:Saturday Children's Program<br /><br />02/14/26 11:00 AM PST - 02/14/26 03:00 PM PST
PRIORITY:3
TRANSP:TRANSPARENT
BEGIN:VALARM
TRIGGER:-PT5M
ACTION:DISPLAY
DESCRIPTION:Reminder
END:VALARM
END:VEVENT
END:VCALENDAR
