BEGIN:VCALENDAR
VERSION:2.0
CALSCALE:GREGORIAN
METHOD:PUBLISH
PRODID://LASS//1410307
BEGIN:VEVENT
DTSTAMP:20260424T101702
VTIMEZONE:America/Los_Angeles
DTSTART:20260215T013000Z
DTEND:20260215T060000Z
UID:1410307
SUMMARY:Taste of Beef, Sip of Wine
LOCATION:
DESCRIPTION:Taste of Beef, Sip of Wine\n\n02/14/26 05:30 PM PST\n - 02/14/26 10:00 PM PST
X-ALT-DESC;FMTTYPE=text/html:Taste of Beef, Sip of Wine<br /><br />02/14/26 05:30 PM PST - 02/14/26 10:00 PM PST
PRIORITY:3
TRANSP:TRANSPARENT
BEGIN:VALARM
TRIGGER:-PT5M
ACTION:DISPLAY
DESCRIPTION:Reminder
END:VALARM
END:VEVENT
END:VCALENDAR
