BEGIN:VCALENDAR
VERSION:2.0
CALSCALE:GREGORIAN
METHOD:PUBLISH
PRODID://JCOC//1410312
BEGIN:VEVENT
DTSTAMP:20260424T160241
VTIMEZONE:America/Chicago
DTSTART:20260908T050000Z
DTEND:20260911T044500Z
UID:1410312
SUMMARY:Jenks InterCity Visit: Summerville, SC
LOCATION:
DESCRIPTION:Jenks InterCity Visit: Summerville, SC\n\n09/08/26 12:00 AM CST\n - 09/10/26 11:45 PM CST\Description:\nThe Jenks Intercity Visit to Summerville, South Carolina will take place September 8-10 and offers a unique experience for those interested in learning how a growing suburban community similar to Jenks manages economic development, workforce readiness, and downtown planning while preserving its small-town charm.  Learn more about Summerville HERE.\n\nTentative Agenda Includes:\n-Walking tour of downtown business\n-Civic, business, and school parternships\n-Workforce development \n-Tourism\n-Economic development\n-Discussion with city leaders\n-Chamber programming\nRegistration includes scheduled programming, planned group receptions, and lunches.\n\nAll travel, hotel accommodations, and transportation to Summerville are not included.  We will have a room block reserved at a group rate at the Hilton Garden Inn. Details will be communicated following registration.\n
X-ALT-DESC;FMTTYPE=text/html:Jenks InterCity Visit: Summerville, SC<br /><br />09/08/26 12:00 AM CST - 09/10/26 11:45 PM CST<br />Description:<br />The Jenks Intercity Visit to Summerville, South Carolina will take place September 8-10 and offers a unique experience for those interested in learning how a growing suburban community similar to Jenks manages economic development, workforce readiness, and downtown planning while preserving its small-town charm. &nbsp;Learn more about Summerville&nbsp;<strong><a href="https://www.summervillesc.gov">HERE</a>.</strong><br />
<br />
<strong>Tentative Agenda Includes:</strong><br />
-Walking tour of downtown business<br />
-Civic, business, and school parternships<br />
-Workforce development&nbsp;<br />
-Tourism<br />
-Economic development<br />
-Discussion with city leaders<br />
-Chamber programming
<p data-end="1419" data-start="1278">Registration includes scheduled programming, planned group receptions, and lunches.<br />
<br />
All travel, hotel accommodations, and transportation to Summerville are not included. &nbsp;We will have a room block reserved at a group rate at the Hilton Garden Inn. Details will be communicated following registration.</p>

PRIORITY:3
TRANSP:TRANSPARENT
BEGIN:VALARM
TRIGGER:-PT5M
ACTION:DISPLAY
DESCRIPTION:Reminder
END:VALARM
END:VEVENT
END:VCALENDAR
