BEGIN:VCALENDAR
VERSION:2.0
CALSCALE:GREGORIAN
METHOD:PUBLISH
PRODID://JCOC//1410507
BEGIN:VEVENT
DTSTAMP:20260424T123214
VTIMEZONE:America/Chicago
DTSTART:20260212T060000Z
DTEND:20260213T054500Z
UID:1410507
SUMMARY:Youth Skin RX 3 year Anniversary (in-person and online)
LOCATION:Youth Skin RX Med Aesthetics, 6305 E. 120th Ct, Tulsa, OK, 74137
DESCRIPTION:Youth Skin RX 3 year Anniversary (in-person and online)\n\n02/12/26 12:00 AM CST\n - 02/12/26 11:45 PM CST\Description:\nOn February 12, 2026, Youth Skin RX officially turns three! It has been an incredible journey helping our community look and feel their best, and we want to celebrate this 3rd anniversary with the people who made it possible: you.\nWe are throwing a massive one-day celebration featuring exclusive Flash Sales available both online and in-clinic. We will be releasing a full list of special offers in the days leading up to the event, so stay tuned on our event page or sign up for marketing text messages from Youth Skin RX\nGet instant alerts: Text "START" to 918-802-7817 to join our VIP text list for real-time sale updates. \Details:\nOn February 12, 2026, Youth Skin RX officially turns three! It has been an incredible journey helping our community look and feel their best, and we want to celebrate this 3rd anniversary with the people who made it possible: you.\nWe are throwing a massive one-day celebration featuring exclusive Flash Sales available both online and in-clinic. We will be releasing a full list of special offers in the days leading up to the event, so stay tuned on our event page or sign up for marketing text messages from Youth Skin RX\nGet instant alerts: Text "START" to 918-802-7817 to join our VIP text list for real-time sale updates. \Location:\nYouth Skin RX Med Aesthetics\n6305 E. 120th Ct\nTulsa, OK 74137
X-ALT-DESC;FMTTYPE=text/html:Youth Skin RX 3 year Anniversary (in-person and online)<br /><br />02/12/26 12:00 AM CST - 02/12/26 11:45 PM CST<br />Description:<br />On February 12, 2026, Youth Skin RX officially turns three! It has been an incredible journey helping our community look and feel their best, and we want to celebrate this 3rd anniversary with the people who made it possible: you.<br />
We are throwing a massive one-day celebration featuring exclusive Flash Sales available both online and in-clinic. We will be releasing a full list of special offers in the days leading up to the event, so stay tuned on our event page or sign up for marketing text messages from Youth Skin RX<br />
Get instant alerts: Text &quot;START&quot; to 918-802-7817 to join our VIP text list for real-time sale&nbsp;updates.&nbsp;<br />Details:<br />On February 12, 2026, Youth Skin RX officially turns three! It has been an incredible journey helping our community look and feel their best, and we want to celebrate this 3rd anniversary with the people who made it possible: you.<br />
We are throwing a massive one-day celebration featuring exclusive Flash Sales available both online and in-clinic. We will be releasing a full list of special offers in the days leading up to the event, so stay tuned on our event page or sign up for marketing text messages from Youth Skin RX<br />
Get instant alerts: Text &quot;START&quot; to 918-802-7817 to join our VIP text list for real-time sale updates.&nbsp;<br />Location:<br />Youth Skin RX Med Aesthetics<br />6305 E. 120th Ct<br />Tulsa, OK 74137
PRIORITY:3
TRANSP:TRANSPARENT
BEGIN:VALARM
TRIGGER:-PT5M
ACTION:DISPLAY
DESCRIPTION:Reminder
END:VALARM
END:VEVENT
END:VCALENDAR
