BEGIN:VCALENDAR
VERSION:2.0
CALSCALE:GREGORIAN
METHOD:PUBLISH
PRODID://OCON//1410623
BEGIN:VEVENT
DTSTAMP:20260424T163307
VTIMEZONE:America/New_York
DTSTART:20261103T143000Z
DTEND:20261103T153000Z
UID:1410623
SUMMARY:New Partner Orientation | Sponsored by The Hyatt Group
LOCATION:Oconee Chamber of Commerce, 55 Nancy Drive, Watkinsville, GA, 30677
DESCRIPTION:New Partner Orientation | Sponsored by The Hyatt Group\n\n11/03/26 09:30 AM EST\n - 11/03/26 10:30 AM EST\Location:\nOconee Chamber of Commerce\n55 Nancy Drive\nWatkinsville, GA 30677
X-ALT-DESC;FMTTYPE=text/html:New Partner Orientation | Sponsored by The Hyatt Group<br /><br />11/03/26 09:30 AM EST - 11/03/26 10:30 AM EST<br />Location:<br />Oconee Chamber of Commerce<br />55 Nancy Drive<br />Watkinsville, GA 30677
PRIORITY:3
TRANSP:TRANSPARENT
BEGIN:VALARM
TRIGGER:-PT5M
ACTION:DISPLAY
DESCRIPTION:Reminder
END:VALARM
END:VEVENT
END:VCALENDAR
