BEGIN:VCALENDAR
VERSION:2.0
CALSCALE:GREGORIAN
METHOD:PUBLISH
PRODID://KING//1410780
BEGIN:VEVENT
DTSTAMP:20260422T081547
VTIMEZONE:America/Denver
DTSTART:20261009T150000Z
DTEND:20261012T040000Z
UID:1410780
SUMMARY:Kingman Rt 66 Street Drags
LOCATION:Kingman Rt 66 Street Drags, On Rt 66, Kingman, AZ, 86401
DESCRIPTION:Kingman Rt 66 Street Drags\n\n10/09/26 09:00 AM MST\n - 10/11/26 10:00 PM MST\Description:\n\n	ðŸ”¥ ENGINES. SMOKE. SPEED. HISTORY IN THE MAKING. ðŸ”¥\n	The Kingman Rt 66 Street Drags Centennial Celebration Race is roaring into town — and we’re bringing 300 cars straight to the starting line for a showdown you won’t forget!\n	Feel the ground shake as fire-breathing Hot Rods, thunderous Dragsters, muscle cars, street machines, and even tough everyday drivers go head-to-head in raw, side-by-side street racing action. This is horsepower unleashed on historic Route 66!\n\n\Details:\nThree day event starting at 1pm on Friday til 9pm\nSat 9am to 10pm\nSun 9am - 530 pm\nSpectator fee $20-$45 for reserve seating\Location:\nKingman Rt 66 Street Drags\nOn Rt 66\nKingman, AZ 86401
X-ALT-DESC;FMTTYPE=text/html:Kingman Rt 66 Street Drags<br /><br />10/09/26 09:00 AM MST - 10/11/26 10:00 PM MST<br />Description:<br /><ul>
	<li>ðŸ”¥ <strong data-end="190" data-start="141">ENGINES. SMOKE. SPEED. HISTORY IN THE MAKING.</strong> ðŸ”¥</li>
	<li data-end="377" data-start="197">The <strong data-end="259" data-start="201">Kingman Rt 66 Street Drags Centennial Celebration Race</strong> is roaring into town &mdash; and we&rsquo;re bringing <strong data-end="314" data-start="302">300 cars</strong> straight to the starting line for a showdown you won&rsquo;t forget!</li>
	<li data-end="630" data-start="379">Feel the ground shake as fire-breathing <strong data-end="431" data-start="419">Hot Rods</strong>, thunderous <strong data-end="457" data-start="444">Dragsters</strong>, muscle cars, street machines, and even tough everyday drivers go head-to-head in raw, side-by-side street racing action. This is horsepower unleashed on historic Route 66!</li>
</ul>
<br />Details:<br />Three day event starting at 1pm on Friday til 9pm<br />
Sat 9am to 10pm<br />
Sun 9am - 530 pm<br />
Spectator fee $20-$45 for reserve seating<br />Location:<br />Kingman Rt 66 Street Drags<br />On Rt 66<br />Kingman, AZ 86401
PRIORITY:3
TRANSP:TRANSPARENT
BEGIN:VALARM
TRIGGER:-PT5M
ACTION:DISPLAY
DESCRIPTION:Reminder
END:VALARM
END:VEVENT
END:VCALENDAR
