BEGIN:VCALENDAR
VERSION:2.0
CALSCALE:GREGORIAN
METHOD:PUBLISH
PRODID://GFCC//1410874
BEGIN:VEVENT
DTSTAMP:20260424T095117
VTIMEZONE:America/Chicago
DTSTART:20260210T110000Z
DTEND:20260214T020000Z
UID:1410874
SUMMARY:Galantineâ€™s Special
LOCATION:Scooterâ€™s Coffee, 915 Veterans Ave. Suite B, Vandalia, IL, 62471
DESCRIPTION:Galantineâ€™s Special\n\n02/10/26 05:00 AM CST\n - 02/13/26 08:00 PM CST\Description:\nBuy one drink, get one half off when you use the app. 2/10-2/13. One time use.\Details:\nTreat yourself and your bestie (or your situationship… we won't judge ðŸ˜) to your favorite drinks. Buy one, get one half off 2/10 through Friday (2/13). We'll cheers to that! ðŸ’âœ¨ðŸ’‹\n\n\n*Limit one per customer. Redeemable 2/10/26 - 2/13/26. Discount can not be combined with any other offer. To claim offer, use our app to scan for loyalty, scan & pay, or mobile order ahead.\Location:\nScooterâ€™s Coffee\n915 Veterans Ave. Suite B\nVandalia, IL 62471
X-ALT-DESC;FMTTYPE=text/html:Galantineâ€™s Special<br /><br />02/10/26 05:00 AM CST - 02/13/26 08:00 PM CST<br />Description:<br />Buy one drink, get one half off when you use the app. 2/10-2/13. One time use.<br />Details:<br />Treat yourself and your&nbsp;bestie&nbsp;(or your situationship&hellip; we won't judge ðŸ˜) to your favorite drinks.&nbsp;Buy one, get one half off 2/10&nbsp;through Friday (2/13). We'll cheers to that! ðŸ’âœ¨ðŸ’‹<br />
<br />
<br />
*Limit one per customer. Redeemable 2/10/26 - 2/13/26. Discount can not be combined with any other offer.&nbsp;<strong><u>To claim offer, use our app to scan for loyalty, scan &amp; pay, or mobile order ahead.</u></strong><br />Location:<br />Scooterâ€™s Coffee<br />915 Veterans Ave. Suite B<br />Vandalia, IL 62471
PRIORITY:3
TRANSP:TRANSPARENT
BEGIN:VALARM
TRIGGER:-PT5M
ACTION:DISPLAY
DESCRIPTION:Reminder
END:VALARM
END:VEVENT
END:VCALENDAR
