BEGIN:VCALENDAR
VERSION:2.0
CALSCALE:GREGORIAN
METHOD:PUBLISH
PRODID://AFFT//1411234
BEGIN:VEVENT
DTSTAMP:20260420T040313
VTIMEZONE:America/Chicago
DTSTART:20260724T180000Z
DTEND:20260724T180000Z
UID:1411234
SUMMARY:Deadline for New Teacher Welcome Bag Items
LOCATION:Affton-Lemay Chamber of Commerce, 9815 Mackenzie Rd, Affton, MO, 63123
DESCRIPTION:Deadline for New Teacher Welcome Bag Items\n\n07/24/26 01:00 PM CST\n - 07/24/26 01:00 PM CST\Description:\nMembers Only Opportunity...The Affton-Lemay Chamber is thrilled to provide welcome bags for new teachers in our local schools, and we’d love for your business or organization to get involved! We’re accepting logoed promotional items and coupons—please avoid submitting only flyers or business cards. Contributions for one or more schools should be dropped off to the Chamber office by July 24. To receive exact quantities, please register, and we’ll notify you as soon as the numbers are finalized!\Location:\nAffton-Lemay Chamber of Commerce\n9815 Mackenzie Rd\nAffton, MO 63123
X-ALT-DESC;FMTTYPE=text/html:Deadline for New Teacher Welcome Bag Items<br /><br />07/24/26 01:00 PM CST - 07/24/26 01:00 PM CST<br />Description:<br /><strong>Members Only Opportunity</strong>...The Affton-Lemay Chamber is thrilled to provide welcome bags for new teachers in our local schools, and we&rsquo;d love for your business or organization to get involved! We&rsquo;re accepting logoed promotional items and coupons&mdash;please avoid submitting only flyers or business cards. <strong>Contributions for one or more schools should be dropped off to the Chamber office by July 24.</strong> To receive exact quantities, please register, and we&rsquo;ll notify you as soon as the numbers are finalized!<br />Location:<br />Affton-Lemay Chamber of Commerce<br />9815 Mackenzie Rd<br />Affton, MO 63123
PRIORITY:3
TRANSP:TRANSPARENT
BEGIN:VALARM
TRIGGER:-PT5M
ACTION:DISPLAY
DESCRIPTION:Reminder
END:VALARM
END:VEVENT
END:VCALENDAR
