BEGIN:VCALENDAR
VERSION:2.0
CALSCALE:GREGORIAN
METHOD:PUBLISH
PRODID://AFFT//1411300
BEGIN:VEVENT
DTSTAMP:20260420T040312
VTIMEZONE:America/Chicago
DTSTART:20261210T171500Z
DTEND:20261210T190000Z
UID:1411300
SUMMARY:December Membership Luncheon
LOCATION:TBD
DESCRIPTION:December Membership Luncheon\n\n12/10/26 11:15 AM CST\n - 12/10/26 01:00 PM CST\Description:\n11:15 am Registration | 11:50 am Lunch\n$25 Affton-Lemay Members | $30 Non-Members\n**NEW in 2026...meeting prepayment is required**\nPlease register by December 4\Location:\nTBD\n\n,
X-ALT-DESC;FMTTYPE=text/html:December Membership Luncheon<br /><br />12/10/26 11:15 AM CST - 12/10/26 01:00 PM CST<br />Description:<br />11:15 am Registration | 11:50 am Lunch<br />
$25 Affton-Lemay Members | $30 Non-Members<br />
<em>**NEW in 2026...meeting prepayment is required**</em><br />
<strong>Please register by December 4</strong><br />Location:<br />TBD<br /><br />,  
PRIORITY:3
TRANSP:TRANSPARENT
BEGIN:VALARM
TRIGGER:-PT5M
ACTION:DISPLAY
DESCRIPTION:Reminder
END:VALARM
END:VEVENT
END:VCALENDAR
