BEGIN:VCALENDAR
VERSION:2.0
CALSCALE:GREGORIAN
METHOD:PUBLISH
PRODID://OCON//1411433
BEGIN:VEVENT
DTSTAMP:20260424T104606
VTIMEZONE:America/New_York
DTSTART:20260318T153000Z
DTEND:20260318T170000Z
UID:1411433
SUMMARY:State of the County
LOCATION:Oconee Civic Center, 2661 Hog Mountain Road, Watkinsville, GA, 30677
DESCRIPTION:State of the County\n\n03/18/26 11:30 AM EST\n - 03/18/26 01:00 PM EST\Description:\nJoin us at the Oconee County Civic Center for a State of the County event. Chairman John Daniell will share about the latest accomplishments and plans for Oconee County.\Location:\nOconee Civic Center\n2661 Hog Mountain Road\nWatkinsville, GA 30677
X-ALT-DESC;FMTTYPE=text/html:State of the County<br /><br />03/18/26 11:30 AM EST - 03/18/26 01:00 PM EST<br />Description:<br />Join us at the Oconee County Civic Center for a State of the County event. Chairman John Daniell will share about the latest accomplishments and plans for Oconee County.<br />Location:<br />Oconee Civic Center<br />2661 Hog Mountain Road<br />Watkinsville, GA 30677
PRIORITY:3
TRANSP:TRANSPARENT
BEGIN:VALARM
TRIGGER:-PT5M
ACTION:DISPLAY
DESCRIPTION:Reminder
END:VALARM
END:VEVENT
END:VCALENDAR
