BEGIN:VCALENDAR
VERSION:2.0
CALSCALE:GREGORIAN
METHOD:PUBLISH
PRODID://KING//1411487
BEGIN:VEVENT
DTSTAMP:20260422T053837
VTIMEZONE:America/Phoenix
DTSTART:20260418T160000Z
DTEND:20260420T030000Z
UID:1411487
SUMMARY:Kingmalot
LOCATION:Hualapai Mountain Rec Are !, 5806-5826 E Hualapai Mountain RD, KINGMAN, AZ, 86401
DESCRIPTION:Kingmalot\n\n04/18/26 09:00 AM MT\n - 04/19/26 08:00 PM MT\Description:\nA renaissance themed brew fest filled with live entertainment and interactive experiences. This immersive event features breweries, meaderies and wineries both local and statewide. We have fun things for everyone, including pony rides, jugglers, acrobats and dance performances! Come meet the colorful cast of characters that roam the realm! Best of all join in our quest for the Holy Ale! All of this takes place in the beautiful Hualapai Mountains Rec area 1. \Details:\nThere will be tickets sold at various prices starting at $20 and goes to a VIP ticket $220 with perks that include free camping, merch and snacks! Its a weekend long event with live entertainers constantly performing. Tickets can be purchased on our website. There well be beer tokens for consumers to use to try our many breweries. Parking and camping is available.\n \Location:\nHualapai Mountain Rec Are !\n5806-5826 E Hualapai Mountain RD\nKINGMAN, AZ 86401
X-ALT-DESC;FMTTYPE=text/html:Kingmalot<br /><br />04/18/26 09:00 AM MT - 04/19/26 08:00 PM MT<br />Description:<br />A renaissance themed brew fest filled with live entertainment and interactive experiences. This immersive event features breweries, meaderies and wineries both local and statewide. We have fun things for everyone, including pony rides, jugglers, acrobats and dance performances! Come meet the colorful cast of characters that roam the realm! Best of all join in our quest for the Holy Ale! All of this takes place in the beautiful Hualapai Mountains Rec area 1.&nbsp;<br />Details:<br />There will be tickets sold at various prices starting at $20 and goes to a VIP ticket $220 with perks that include free camping, merch and snacks! Its a weekend long event with live entertainers constantly performing. Tickets can be purchased on our website. There well be beer tokens for consumers to use to try our many breweries. Parking and camping is available.<br />
&nbsp;<br />Location:<br />Hualapai Mountain Rec Are !<br />5806-5826 E Hualapai Mountain RD<br />KINGMAN, AZ 86401
PRIORITY:3
TRANSP:TRANSPARENT
BEGIN:VALARM
TRIGGER:-PT5M
ACTION:DISPLAY
DESCRIPTION:Reminder
END:VALARM
END:VEVENT
END:VCALENDAR
