BEGIN:VCALENDAR
VERSION:2.0
CALSCALE:GREGORIAN
METHOD:PUBLISH
PRODID://JCOC//1411508
BEGIN:VEVENT
DTSTAMP:20260424T123213
VTIMEZONE:America/Chicago
DTSTART:20260213T173000Z
DTEND:20260213T190000Z
UID:1411508
SUMMARY:Women in Business Luncheon
LOCATION:The Ranch, 10596 S. Elm Street, Jenks, OK, 74037
DESCRIPTION:Women in Business Luncheon\n\n02/13/26 11:30 AM CST\n - 02/13/26 01:00 PM CST\Description:\nSponsored by Jenks Riverwalk, Tulsa Tech and Oklahoma Aquarium \nâ€‹Dessert Sponsor: Nothing Bundt Cakes Tulsa Hills\n\nYou are invited to attend the Jenks Chamber Women in Business Galentine’s Day Luncheon on Friday, February 13th at 11:30 AM at The Ranch!\n\nThis program will feature a panel of mental health professionals leading conversations on how we can love ourselves and each other in both business and life. Topics will include managing stress, avoiding burnout, and building healthy relationships at work and beyond. We will also be welcoming therapy dogs from Lisa Bain Ministries.\n\nBring a friend with you and receive a small gift!\n\nDoors Open: 11:30AM\nProgram Starts: 12:00PM\n\nClick to View: Liability Waiver\n\n \n\Location:\nThe Ranch\n10596 S. Elm Street\nJenks, OK 74037
X-ALT-DESC;FMTTYPE=text/html:Women in Business Luncheon<br /><br />02/13/26 11:30 AM CST - 02/13/26 01:00 PM CST<br />Description:<br /><p><strong>Sponsored by Jenks Riverwalk, Tulsa Tech and Oklahoma Aquarium&nbsp;<br />
â€‹Dessert Sponsor: Nothing Bundt Cakes Tulsa Hills</strong><br />
<br />
You are invited to attend the Jenks Chamber Women in Business Galentine&rsquo;s Day Luncheon on Friday, February 13th at 11:30 AM at The Ranch!<br />
<br />
This program will feature a panel of mental health professionals leading conversations on how we can love ourselves and each other in both business and life. Topics will include managing stress, avoiding burnout, and building healthy relationships at work and beyond. We will also be welcoming therapy dogs from Lisa Bain Ministries.</p>

<p><u><strong>Bring a friend</strong></u> with you and receive a small gift!<br />
<br />
Doors Open: 11:30AM<br />
Program Starts: 12:00PM<br />
<br />
<strong>Click to View:&nbsp;<a href="https://www.dropbox.com/scl/fi/xh0okrwobjv6y4if070ca/jenks-chamber-of-commerce-liability-waiver.pdf?rlkey=wj6uvimc4q2zlk53to4b1rgxe&amp;st=72p7pdtm&amp;dl=0">Liability Waiver</a></strong></p>

<p>&nbsp;</p>
<br />Location:<br />The Ranch<br />10596 S. Elm Street<br />Jenks, OK 74037
PRIORITY:3
TRANSP:TRANSPARENT
BEGIN:VALARM
TRIGGER:-PT5M
ACTION:DISPLAY
DESCRIPTION:Reminder
END:VALARM
END:VEVENT
END:VCALENDAR
