BEGIN:VCALENDAR
VERSION:2.0
CALSCALE:GREGORIAN
METHOD:PUBLISH
PRODID://KING//1411689
BEGIN:VEVENT
DTSTAMP:20260422T092919
VTIMEZONE:America/Phoenix
DTSTART:20260227T233000Z
DTEND:20260228T013000Z
UID:1411689
SUMMARY:Grand Opening: Jerry Ambrose Veteran's Center
LOCATION:Jerry Ambrose Veteran's Center, 315 E. Oak St, Kingman, AZ, 86401
DESCRIPTION:Grand Opening: Jerry Ambrose Veteran's Center\n\n02/27/26 04:30 PM MT\n - 02/27/26 06:30 PM MT\Description:\nGrand Opening & Ribbon Cutting – JAVC Veterans Center\nðŸ“… Friday, February 27\nâ° 4:30 PM – 6:30 PM\nðŸ“ 315 E. Oak St., Kingman, AZ 86401\n\nJoin the Jerry Ambrose Veterans Council for the Grand Opening of the new JAVC Veterans Center — a dedicated hub serving local veterans and home to Operation 6 and other vital veteran support programs.\n\nCelebrate this important milestone with:\n• Tours of the new center\n• Official ribbon cutting ceremony\n• Catered reception\n\nCity of Kingman Mayor Ken Watkins and U.S. Representative Paul Gosar will be in attendance to help commemorate the JAVC ribbon cutting and celebrate this next phase of impact for veterans in our community.\n\nCommunity support is helping fuel a $250,000 impact goal for veterans — be part of the celebration and show your support.\n\nAll are welcome.\n\Location:\nJerry Ambrose Veteran's Center\n315 E. Oak St\nKingman, AZ 86401
X-ALT-DESC;FMTTYPE=text/html:Grand Opening: Jerry Ambrose Veteran's Center<br /><br />02/27/26 04:30 PM MT - 02/27/26 06:30 PM MT<br />Description:<br /><p data-end="203" data-start="58"><span style="font-size:16px"><strong data-end="115" data-start="58">Grand Opening &amp; Ribbon Cutting &ndash; JAVC Veterans Center</strong><br data-end="118" data-start="115" />
ðŸ“… Friday, February 27<br data-end="143" data-start="140" />
â° 4:30 PM &ndash; 6:30 PM<br data-end="165" data-start="162" />
ðŸ“ 315 E. Oak St., Kingman, AZ 86401</span></p>

<p data-end="405" data-start="205"><span style="font-size:16px">Join the Jerry Ambrose Veterans Council for the Grand Opening of the new JAVC Veterans Center &mdash; a dedicated hub serving local veterans and home to Operation 6 and other vital veteran support programs.</span></p>

<p data-end="536" data-start="407"><span style="font-size:16px">Celebrate this important milestone with:<br data-end="450" data-start="447" />
&bull; Tours of the new center<br data-end="478" data-start="475" />
&bull; Official ribbon cutting ceremony<br data-end="515" data-start="512" />
&bull; Catered reception</span></p>

<p data-end="743" data-start="538"><span style="font-size:16px">City of Kingman Mayor Ken Watkins and U.S. Representative Paul Gosar will be in attendance to help commemorate the JAVC ribbon cutting and celebrate this next phase of impact for veterans in our community.</span></p>

<p data-end="866" data-start="745"><span style="font-size:16px">Community support is helping fuel a $250,000 impact goal for veterans &mdash; be part of the celebration and show your support.</span></p>

<p data-end="884" data-is-last-node="" data-is-only-node="" data-start="868"><span style="font-size:16px">All are welcome.</span></p>
<br />Location:<br />Jerry Ambrose Veteran's Center<br />315 E. Oak St<br />Kingman, AZ 86401
PRIORITY:3
TRANSP:TRANSPARENT
BEGIN:VALARM
TRIGGER:-PT5M
ACTION:DISPLAY
DESCRIPTION:Reminder
END:VALARM
END:VEVENT
END:VCALENDAR
