BEGIN:VCALENDAR
VERSION:2.0
CALSCALE:GREGORIAN
METHOD:PUBLISH
PRODID://JCOC//1411819
BEGIN:VEVENT
DTSTAMP:20260424T123237
VTIMEZONE:America/Chicago
DTSTART:20260226T220000Z
DTEND:20260227T000000Z
UID:1411819
SUMMARY:Network Jenks
LOCATION:Pure Kitchen and Market, 102 Main Street , Jenks, OK, 74037
DESCRIPTION:Network Jenks\n\n02/26/26 04:00 PM CST\n - 02/26/26 06:00 PM CST\Description:\nSponsored by Jenks Riverwalk, Tedford Insurance, and Bank Of Oklahoma\nShop, Dine, and Network Local --\nJoin us early to shop local before our Network Jenks event at Pure Kitchen and Market!  \n\nNetwork Jenks After Hours is a monthly networking event where Chamber members can unwind, connect, and build relationships in a casual evening setting.  This is a fun and relaxed way to grow your network and stay engaged with the Jenks business community.\n\nClick to View: Liability Waiver\Location:\nPure Kitchen and Market\n102 Main Street \nJenks, OK 74037
X-ALT-DESC;FMTTYPE=text/html:Network Jenks<br /><br />02/26/26 04:00 PM CST - 02/26/26 06:00 PM CST<br />Description:<br /><strong>Sponsored by Jenks Riverwalk, Tedford Insurance, and Bank Of Oklahoma</strong>
<p>Shop, Dine, and Network Local --</p>
Join us early to shop local before our Network Jenks event at Pure Kitchen and Market!&nbsp;&nbsp;<br />
<br />
Network Jenks After Hours is a monthly networking event where Chamber members can unwind, connect, and build relationships in a casual evening setting.&nbsp; This is a fun and relaxed way to grow your network and stay engaged with the Jenks business community.<br />
<br />
<strong>Click to View:&nbsp;<a href="https://www.dropbox.com/scl/fi/xh0okrwobjv6y4if070ca/jenks-chamber-of-commerce-liability-waiver.pdf?rlkey=wj6uvimc4q2zlk53to4b1rgxe&amp;st=72p7pdtm&amp;dl=0">Liability Waiver</a></strong><br />Location:<br />Pure Kitchen and Market<br />102 Main Street <br />Jenks, OK 74037
PRIORITY:3
TRANSP:TRANSPARENT
BEGIN:VALARM
TRIGGER:-PT5M
ACTION:DISPLAY
DESCRIPTION:Reminder
END:VALARM
END:VEVENT
END:VCALENDAR
