BEGIN:VCALENDAR
VERSION:2.0
CALSCALE:GREGORIAN
METHOD:PUBLISH
PRODID://OCON//1411947
BEGIN:VEVENT
DTSTAMP:20260424T104718
VTIMEZONE:America/New_York
DTSTART:20260306T163000Z
DTEND:20260306T173000Z
UID:1411947
SUMMARY:Ribbon Cutting | HOTWORX
LOCATION:HOTWORX, 2421 Malcom Bridge Road, Bogart, GA, 30622
DESCRIPTION:Ribbon Cutting | HOTWORX\n\n03/06/26 11:30 AM EST\n - 03/06/26 12:30 PM EST\Location:\nHOTWORX\n2421 Malcom Bridge Road\nBogart, GA 30622
X-ALT-DESC;FMTTYPE=text/html:Ribbon Cutting | HOTWORX<br /><br />03/06/26 11:30 AM EST - 03/06/26 12:30 PM EST<br />Location:<br />HOTWORX<br />2421 Malcom Bridge Road<br />Bogart, GA 30622
PRIORITY:3
TRANSP:TRANSPARENT
BEGIN:VALARM
TRIGGER:-PT5M
ACTION:DISPLAY
DESCRIPTION:Reminder
END:VALARM
END:VEVENT
END:VCALENDAR
