BEGIN:VCALENDAR
VERSION:2.0
CALSCALE:GREGORIAN
METHOD:PUBLISH
PRODID://OCON//1411965
BEGIN:VEVENT
DTSTAMP:20260424T104626
VTIMEZONE:America/New_York
DTSTART:20260325T160000Z
DTEND:20260325T170000Z
UID:1411965
SUMMARY:Women in Business Quarterly Hangout
LOCATION:Iron Horse Nutrition, 1971 Hog Mountain Road, Watkinsville, GA, 30677
DESCRIPTION:Women in Business Quarterly Hangout\n\n03/25/26 12:00 PM EST\n - 03/25/26 01:00 PM EST\Description:\nOur quarterly Women in Business Luncheons just isn't enough time together, so let's hangout between those events to bond! Join us for your lunch break at Iron Horse Nutrition on Wednesday, March 25th from 12:00 - 1:00 p.m. \n\nPlease register so we can give Iron Horse Nutrition a headcount!\Location:\nIron Horse Nutrition\n1971 Hog Mountain Road\nWatkinsville, GA 30677
X-ALT-DESC;FMTTYPE=text/html:Women in Business Quarterly Hangout<br /><br />03/25/26 12:00 PM EST - 03/25/26 01:00 PM EST<br />Description:<br />Our quarterly Women in Business Luncheons just isn't enough time together, so let's hangout between those events to bond! Join us for your lunch break at Iron Horse Nutrition on Wednesday, March 25th from 12:00 - 1:00 p.m.&nbsp;<br />
<br />
Please register so we can give Iron Horse Nutrition a headcount!<br />Location:<br />Iron Horse Nutrition<br />1971 Hog Mountain Road<br />Watkinsville, GA 30677
PRIORITY:3
TRANSP:TRANSPARENT
BEGIN:VALARM
TRIGGER:-PT5M
ACTION:DISPLAY
DESCRIPTION:Reminder
END:VALARM
END:VEVENT
END:VCALENDAR
