BEGIN:VCALENDAR
VERSION:2.0
CALSCALE:GREGORIAN
METHOD:PUBLISH
PRODID://OCON//1411967
BEGIN:VEVENT
DTSTAMP:20260424T104626
VTIMEZONE:America/New_York
DTSTART:20260326T123000Z
DTEND:20260326T133000Z
UID:1411967
SUMMARY:The Morning Mix'n | Athens Orthopedic Clinic
LOCATION:Athens Orthopedic Clinic, 1765 Old West Broad Street, Athens, GA, 30606
DESCRIPTION:The Morning Mix'n | Athens Orthopedic Clinic\n\n03/26/26 08:30 AM EST\n - 03/26/26 09:30 AM EST\Description:\nStart your day with a morning open networking event held at an Oconee Chamber Partner's location. Drop in anytime between 8:30 a.m. - 9:30 a.m. \n \Location:\nAthens Orthopedic Clinic\n1765 Old West Broad Street\nAthens, GA 30606
X-ALT-DESC;FMTTYPE=text/html:The Morning Mix'n | Athens Orthopedic Clinic<br /><br />03/26/26 08:30 AM EST - 03/26/26 09:30 AM EST<br />Description:<br />Start your day with a morning open networking event held at an Oconee Chamber Partner's location. Drop in anytime between 8:30 a.m. - 9:30 a.m.&nbsp;<br />
&nbsp;<br />Location:<br />Athens Orthopedic Clinic<br />1765 Old West Broad Street<br />Athens, GA 30606
PRIORITY:3
TRANSP:TRANSPARENT
BEGIN:VALARM
TRIGGER:-PT5M
ACTION:DISPLAY
DESCRIPTION:Reminder
END:VALARM
END:VEVENT
END:VCALENDAR
