BEGIN:VCALENDAR
VERSION:2.0
CALSCALE:GREGORIAN
METHOD:PUBLISH
PRODID://OCON//1411993
BEGIN:VEVENT
DTSTAMP:20260424T115520
VTIMEZONE:America/New_York
DTSTART:20260226T163000Z
DTEND:20260226T173000Z
UID:1411993
SUMMARY:Ribbon Cutting | Dover Grace
LOCATION:Dover Grace, 17 N Main Street, Watkinsville, GA, 30677
DESCRIPTION:Ribbon Cutting | Dover Grace\n\n02/26/26 11:30 AM EST\n - 02/26/26 12:30 PM EST\Location:\nDover Grace\n17 N Main Street\nWatkinsville, GA 30677
X-ALT-DESC;FMTTYPE=text/html:Ribbon Cutting | Dover Grace<br /><br />02/26/26 11:30 AM EST - 02/26/26 12:30 PM EST<br />Location:<br />Dover Grace<br />17 N Main Street<br />Watkinsville, GA 30677
PRIORITY:3
TRANSP:TRANSPARENT
BEGIN:VALARM
TRIGGER:-PT5M
ACTION:DISPLAY
DESCRIPTION:Reminder
END:VALARM
END:VEVENT
END:VCALENDAR
