BEGIN:VCALENDAR
VERSION:2.0
CALSCALE:GREGORIAN
METHOD:PUBLISH
PRODID://AZUS//1412249
BEGIN:VEVENT
DTSTAMP:20260424T140632
VTIMEZONE:America/Los_Angeles
DTSTART:20260225T193000Z
DTEND:20260225T210000Z
UID:1412249
SUMMARY:New Chamber Benefit: Group Rates for Solo & Family Businesses
LOCATION:Your Pie, 100 W Foothill Blvs, Azusa, CA, 91702
DESCRIPTION:New Chamber Benefit: Group Rates for Solo & Family Businesses\n\n02/25/26 11:30 AM PST\n - 02/25/26 01:00 PM PST\Description:\n\nI’m excited to share a new benefit available to members of the Azusa Chamber of Commerce that many of you have been asking for.\n\nFor the first time, solo business owners and family-run businesses can now access group benefit rates, even if you don’t have traditional employees. This is an exclusive opportunity created specifically for our Chamber members to help you protect what you’re building while keeping costs manageable.\n\nHere’s what’s available through this new program:\n\n• Accident plans starting at $7.49/month\n• Cancer plans starting at $11.80/month\n• Hospital indemnity plans starting at $12.30/month\n• Term life options with age-based rates\n• Bilingual support available\n\nThis is a strong option for entrepreneurs, family businesses, and owner-operators who normally don’t qualify for group pricing but still want access to meaningful coverage and peace of mind.\n\nWe’re also hosting a free informational event where you can learn more, ask questions, and see if these plans are a fit for you.\n\nEvent Details\nWednesday, February 25\n11:30 AM - 1:00PM\nYour Pie\n100 W Foothill Blvd, Azusa CA 91702\n\nTo enroll or ask questions, contact:\nmtognoli@seasidebenefits.com\n949.257.2114\n\nMinimum of 10 members is needed to activate rates, so if this sounds like something you’ve been waiting for, I encourage you to RSVP early and help spread the word.\n\nAs always, our goal is to bring practical, meaningful benefits that help your business grow and stay protected. I hope you’ll join us and explore this new opportunity.\n\nWarmly,\nJenny Bolivar\nCEO\nAzusa Chamber of Commerce\n\n \n\n\Location:\nYour Pie\n100 W Foothill Blvs\nAzusa, CA 91702
X-ALT-DESC;FMTTYPE=text/html:New Chamber Benefit: Group Rates for Solo & Family Businesses<br /><br />02/25/26 11:30 AM PST - 02/25/26 01:00 PM PST<br />Description:<br /><article data-scroll-anchor="true" data-testid="conversation-turn-2" data-turn="assistant" data-turn-id="request-WEB:dbe84a1c-d8db-4aff-950e-b7f7c95bf4f8-0" dir="auto" tabindex="-1">
<p data-end="369" data-start="230">I&rsquo;m excited to share a new benefit available to members of the Azusa Chamber of Commerce that many of you have been asking for.</p>

<p data-end="670" data-start="371">For the first time, solo business owners and family-run businesses can now access group benefit rates, even if you don&rsquo;t have traditional employees. This is an exclusive opportunity created specifically for our Chamber members to help you protect what you&rsquo;re building while keeping costs manageable.</p>

<p data-end="721" data-start="672">Here&rsquo;s what&rsquo;s available through this new program:</p>

<p data-end="934" data-start="723">&bull; Accident plans starting at $7.49/month<br data-end="766" data-start="763" />
&bull; Cancer plans starting at $11.80/month<br data-end="808" data-start="805" />
&bull; Hospital indemnity plans starting at $12.30/month<br data-end="862" data-start="859" />
&bull; Term life options with age-based rates<br data-end="905" data-start="902" />
&bull; Bilingual support available</p>

<p data-end="1126" data-start="936">This is a strong option for entrepreneurs, family businesses, and owner-operators who normally don&rsquo;t qualify for group pricing but still want access to meaningful coverage and peace of mind.</p>

<p data-end="1256" data-start="1128">We&rsquo;re also hosting a free informational event where you can learn more, ask questions, and see if these plans are a fit for you.</p>

<p data-end="1379" data-start="1258">Event Details<br data-end="1274" data-start="1271" />
Wednesday, February 25<br data-end="1299" data-start="1296" />
11:30 AM - 1:00PM<br data-end="1322" data-start="1319" />
Your Pie<br data-end="1350" data-start="1347" />
100 W Foothill Blvd, Azusa CA 91702</p>

<p data-end="1463" data-start="1381">To enroll or ask questions, contact:<br data-end="1420" data-start="1417" />
<a data-end="1448" data-start="1420" rel="noopener">mtognoli@seasidebenefits.com</a><br data-end="1451" data-start="1448" />
949.257.2114</p>

<p data-end="1629" data-start="1465">Minimum of 10 members is needed to activate rates, so if this sounds like something you&rsquo;ve been waiting for, I encourage you to RSVP early and help spread the word.</p>

<p data-end="1798" data-start="1631">As always, our goal is to bring practical, meaningful benefits that help your business grow and stay protected. I hope you&rsquo;ll join us and explore this new opportunity.</p>

<p data-end="1857" data-start="1800">Warmly,<br data-end="1810" data-start="1807" />
Jenny Bolivar<br data-end="1826" data-start="1823" />
CEO<br data-end="1832" data-start="1829" />
Azusa Chamber of Commerce</p>

<p data-end="1892" data-start="1859">&nbsp;</p>
</article>
<br />Location:<br />Your Pie<br />100 W Foothill Blvs<br />Azusa, CA 91702
PRIORITY:3
TRANSP:TRANSPARENT
BEGIN:VALARM
TRIGGER:-PT5M
ACTION:DISPLAY
DESCRIPTION:Reminder
END:VALARM
END:VEVENT
END:VCALENDAR
