BEGIN:VCALENDAR
VERSION:2.0
CALSCALE:GREGORIAN
METHOD:PUBLISH
PRODID://OCON//1412265
BEGIN:VEVENT
DTSTAMP:20260424T115520
VTIMEZONE:America/New_York
DTSTART:20260624T160000Z
DTEND:20260624T173000Z
UID:1412265
SUMMARY:Educational Session | Small Business 101 with Look Ahead Business Consulting
LOCATION:Piedmont Oconee Health Campus , 1305 Jennings Mill Rd, Watkinsville, GA, 30677
DESCRIPTION:Educational Session | Small Business 101 with Look Ahead Business Consulting\n\n06/24/26 12:00 PM EST\n - 06/24/26 01:30 PM EST\Description:\nJoin us for an Educational Session taught by Brad Tucker with Look Ahead Business Consulting. He is going to cover the Top 3 Things Small Business Owners Should Do. \n\nRegistration Required - Stay Tuned For Link!\Location:\nPiedmont Oconee Health Campus \n1305 Jennings Mill Rd\nWatkinsville, GA 30677
X-ALT-DESC;FMTTYPE=text/html:Educational Session | Small Business 101 with Look Ahead Business Consulting<br /><br />06/24/26 12:00 PM EST - 06/24/26 01:30 PM EST<br />Description:<br />Join us for an Educational Session taught by Brad Tucker with Look Ahead Business Consulting. He is going to cover the Top 3 Things Small Business Owners Should Do.&nbsp;<br />
<br />
Registration Required - Stay Tuned For Link!<br />Location:<br />Piedmont Oconee Health Campus <br />1305 Jennings Mill Rd<br />Watkinsville, GA 30677
PRIORITY:3
TRANSP:TRANSPARENT
BEGIN:VALARM
TRIGGER:-PT5M
ACTION:DISPLAY
DESCRIPTION:Reminder
END:VALARM
END:VEVENT
END:VCALENDAR
