BEGIN:VCALENDAR
VERSION:2.0
CALSCALE:GREGORIAN
METHOD:PUBLISH
PRODID://BETH//1412537
BEGIN:VEVENT
DTSTAMP:20260424T090016
VTIMEZONE:America/Chicago
DTSTART:20260311T223000Z
DTEND:20260311T233000Z
UID:1412537
SUMMARY:Board Meeting
LOCATION:, IL
DESCRIPTION:Board Meeting\n\n03/11/26 05:30 PM CST\n - 03/11/26 06:30 PM CST
X-ALT-DESC;FMTTYPE=text/html:Board Meeting<br /><br />03/11/26 05:30 PM CST - 03/11/26 06:30 PM CST
PRIORITY:3
TRANSP:TRANSPARENT
BEGIN:VALARM
TRIGGER:-PT5M
ACTION:DISPLAY
DESCRIPTION:Reminder
END:VALARM
END:VEVENT
END:VCALENDAR
