BEGIN:VCALENDAR
VERSION:2.0
CALSCALE:GREGORIAN
METHOD:PUBLISH
PRODID://BETH//1412540
BEGIN:VEVENT
DTSTAMP:20260424T075658
VTIMEZONE:America/Chicago
DTSTART:20260610T223000Z
DTEND:20260610T233000Z
UID:1412540
SUMMARY:Board Meeting
LOCATION:, IL
DESCRIPTION:Board Meeting\n\n06/10/26 05:30 PM CST\n - 06/10/26 06:30 PM CST
X-ALT-DESC;FMTTYPE=text/html:Board Meeting<br /><br />06/10/26 05:30 PM CST - 06/10/26 06:30 PM CST
PRIORITY:3
TRANSP:TRANSPARENT
BEGIN:VALARM
TRIGGER:-PT5M
ACTION:DISPLAY
DESCRIPTION:Reminder
END:VALARM
END:VEVENT
END:VCALENDAR
