BEGIN:VCALENDAR
VERSION:2.0
CALSCALE:GREGORIAN
METHOD:PUBLISH
PRODID://BETH//1412541
BEGIN:VEVENT
DTSTAMP:20260424T090017
VTIMEZONE:America/Chicago
DTSTART:20260708T223000Z
DTEND:20260708T233000Z
UID:1412541
SUMMARY:Board Meeting
LOCATION:, IL
DESCRIPTION:Board Meeting\n\n07/08/26 05:30 PM CST\n - 07/08/26 06:30 PM CST
X-ALT-DESC;FMTTYPE=text/html:Board Meeting<br /><br />07/08/26 05:30 PM CST - 07/08/26 06:30 PM CST
PRIORITY:3
TRANSP:TRANSPARENT
BEGIN:VALARM
TRIGGER:-PT5M
ACTION:DISPLAY
DESCRIPTION:Reminder
END:VALARM
END:VEVENT
END:VCALENDAR
