BEGIN:VCALENDAR
VERSION:2.0
CALSCALE:GREGORIAN
METHOD:PUBLISH
PRODID://BETH//1412542
BEGIN:VEVENT
DTSTAMP:20260424T075653
VTIMEZONE:America/Chicago
DTSTART:20260812T223000Z
DTEND:20260812T233000Z
UID:1412542
SUMMARY:Board Meeting
LOCATION:, IL
DESCRIPTION:Board Meeting\n\n08/12/26 05:30 PM CST\n - 08/12/26 06:30 PM CST
X-ALT-DESC;FMTTYPE=text/html:Board Meeting<br /><br />08/12/26 05:30 PM CST - 08/12/26 06:30 PM CST
PRIORITY:3
TRANSP:TRANSPARENT
BEGIN:VALARM
TRIGGER:-PT5M
ACTION:DISPLAY
DESCRIPTION:Reminder
END:VALARM
END:VEVENT
END:VCALENDAR
