BEGIN:VCALENDAR
VERSION:2.0
CALSCALE:GREGORIAN
METHOD:PUBLISH
PRODID://BETH//1412544
BEGIN:VEVENT
DTSTAMP:20260424T075659
VTIMEZONE:America/Chicago
DTSTART:20261007T223000Z
DTEND:20261007T233000Z
UID:1412544
SUMMARY:Board Meeting
LOCATION:, IL
DESCRIPTION:Board Meeting\n\n10/07/26 05:30 PM CST\n - 10/07/26 06:30 PM CST
X-ALT-DESC;FMTTYPE=text/html:Board Meeting<br /><br />10/07/26 05:30 PM CST - 10/07/26 06:30 PM CST
PRIORITY:3
TRANSP:TRANSPARENT
BEGIN:VALARM
TRIGGER:-PT5M
ACTION:DISPLAY
DESCRIPTION:Reminder
END:VALARM
END:VEVENT
END:VCALENDAR
