BEGIN:VCALENDAR
VERSION:2.0
CALSCALE:GREGORIAN
METHOD:PUBLISH
PRODID://BETH//1412545
BEGIN:VEVENT
DTSTAMP:20260424T075659
VTIMEZONE:America/Chicago
DTSTART:20261111T233000Z
DTEND:20261112T003000Z
UID:1412545
SUMMARY:Board Meeting
LOCATION:, IL
DESCRIPTION:Board Meeting\n\n11/11/26 05:30 PM CST\n - 11/11/26 06:30 PM CST
X-ALT-DESC;FMTTYPE=text/html:Board Meeting<br /><br />11/11/26 05:30 PM CST - 11/11/26 06:30 PM CST
PRIORITY:3
TRANSP:TRANSPARENT
BEGIN:VALARM
TRIGGER:-PT5M
ACTION:DISPLAY
DESCRIPTION:Reminder
END:VALARM
END:VEVENT
END:VCALENDAR
