BEGIN:VCALENDAR
VERSION:2.0
CALSCALE:GREGORIAN
METHOD:PUBLISH
PRODID://BETH//1412546
BEGIN:VEVENT
DTSTAMP:20260424T075652
VTIMEZONE:America/Chicago
DTSTART:20261209T233000Z
DTEND:20261210T003000Z
UID:1412546
SUMMARY:Board Meeting
LOCATION:, IL
DESCRIPTION:Board Meeting\n\n12/09/26 05:30 PM CST\n - 12/09/26 06:30 PM CST
X-ALT-DESC;FMTTYPE=text/html:Board Meeting<br /><br />12/09/26 05:30 PM CST - 12/09/26 06:30 PM CST
PRIORITY:3
TRANSP:TRANSPARENT
BEGIN:VALARM
TRIGGER:-PT5M
ACTION:DISPLAY
DESCRIPTION:Reminder
END:VALARM
END:VEVENT
END:VCALENDAR
