BEGIN:VCALENDAR
VERSION:2.0
CALSCALE:GREGORIAN
METHOD:PUBLISH
PRODID://OCON//1412615
BEGIN:VEVENT
DTSTAMP:20260424T142122
VTIMEZONE:America/New_York
DTSTART:20260828T130000Z
DTEND:20260828T143000Z
UID:1412615
SUMMARY:Educational Session | Business Communication with COOP
LOCATION:The Greenhouse at Wire Park, 1725 Electric Avenue, Watkinsville, GA, 30677
DESCRIPTION:Educational Session | Business Communication with COOP\n\n08/28/26 09:00 AM EST\n - 08/28/26 10:30 AM EST\Description:\nIs Your Message Getting Lost in Translation? Time to Learn the Communication Code!\n\nLet’s face it: The business world is full of opportunities... and the occasional communication curveball! You’ve got a great idea, but it lands flat. You give clear instructions, but the results are mixed. Why? Because the way we expect to communicate isn't always how others need us to.\n\nJoin us for a workshop that skips the jargon and delivers a practical, powerful tool: The Communication Code. These five simple words are your new key to making sure your message is sent and received with crystal clarity.\n\nWe'll dive into:\n\n\n	\n	Why the "Code" is the ultimate shortcut for managing expectations.\n	\n	\n	How to quickly figure out what people really need from you.\n	\n\n\nStrategies to move from frustrating back-and-forths to productive, confident conversations that drive real business growth.\n\n\n\nâ€‹Registration is required - stay tuned for link!\n\Location:\nThe Greenhouse at Wire Park\n1725 Electric Avenue\nWatkinsville, GA 30677
X-ALT-DESC;FMTTYPE=text/html:Educational Session | Business Communication with COOP<br /><br />08/28/26 09:00 AM EST - 08/28/26 10:30 AM EST<br />Description:<br /><h3><strong><font data-olk-copy-source="MessageBody" size="2">Is Your Message Getting Lost in Translation? Time to Learn the Communication Code!</font></strong></h3>

<p>Let&rsquo;s face it: The business world is full of opportunities... and the occasional communication curveball! You&rsquo;ve got a great idea, but it lands flat. You give clear instructions, but the results are mixed. Why? Because the way we&nbsp;<em>expect</em>&nbsp;to communicate isn't always how others&nbsp;<em>need</em>&nbsp;us to.</p>

<p>Join us for a workshop that skips the jargon and delivers a practical, powerful tool:&nbsp;<strong>The Communication Code</strong>. These five simple words are your new key to making sure your message is sent and received with crystal clarity.</p>

<p>We'll dive into:</p>

<ul>
	<li>
	<p>Why the &quot;Code&quot; is the ultimate shortcut for managing expectations.</p>
	</li>
	<li>
	<p>How to quickly figure out what people really need from you.</p>
	</li>
</ul>

<p>Strategies to move from frustrating back-and-forths to productive, confident conversations that drive real business growth.<br />
<br />
<br />
<br />
<strong>â€‹Registration is required - stay tuned for link!</strong></p>
<br />Location:<br />The Greenhouse at Wire Park<br />1725 Electric Avenue<br />Watkinsville, GA 30677
PRIORITY:3
TRANSP:TRANSPARENT
BEGIN:VALARM
TRIGGER:-PT5M
ACTION:DISPLAY
DESCRIPTION:Reminder
END:VALARM
END:VEVENT
END:VCALENDAR
