BEGIN:VCALENDAR
VERSION:2.0
CALSCALE:GREGORIAN
METHOD:PUBLISH
PRODID://BETH//1412640
BEGIN:VEVENT
DTSTAMP:20260424T145946
VTIMEZONE:America/Chicago
DTSTART:20261029T160000Z
DTEND:20261029T173000Z
UID:1412640
SUMMARY:Chamber Luncheon - Guest Speaker: TBD
LOCATION:, IL
DESCRIPTION:Chamber Luncheon - Guest Speaker: TBD\n\n10/29/26 11:00 AM CST\n - 10/29/26 12:30 PM CST\Description:\nChamber Luncheon - Guest Speaker: TBD\nDate: 10/29\nTime 11-12:30pm\nLocation: Bethalto Chamber of Commerce meeting space\nCaterer: Laux
X-ALT-DESC;FMTTYPE=text/html:Chamber Luncheon - Guest Speaker: TBD<br /><br />10/29/26 11:00 AM CST - 10/29/26 12:30 PM CST<br />Description:<br />Chamber Luncheon - Guest Speaker: TBD<br />
Date: 10/29<br />
Time 11-12:30pm<br />
Location: Bethalto Chamber of Commerce meeting space<br />
Caterer: Laux
PRIORITY:3
TRANSP:TRANSPARENT
BEGIN:VALARM
TRIGGER:-PT5M
ACTION:DISPLAY
DESCRIPTION:Reminder
END:VALARM
END:VEVENT
END:VCALENDAR
