BEGIN:VCALENDAR
VERSION:2.0
CALSCALE:GREGORIAN
METHOD:PUBLISH
PRODID://BETH//1412641
BEGIN:VEVENT
DTSTAMP:20260424T090039
VTIMEZONE:America/Chicago
DTSTART:20260119T230000Z
DTEND:20260120T000000Z
UID:1412641
SUMMARY:Economic Development Committee
LOCATION:, IL
DESCRIPTION:Economic Development Committee\n\n01/19/26 05:00 PM CST\n - 01/19/26 06:00 PM CST
X-ALT-DESC;FMTTYPE=text/html:Economic Development Committee<br /><br />01/19/26 05:00 PM CST - 01/19/26 06:00 PM CST
PRIORITY:3
TRANSP:TRANSPARENT
BEGIN:VALARM
TRIGGER:-PT5M
ACTION:DISPLAY
DESCRIPTION:Reminder
END:VALARM
END:VEVENT
END:VCALENDAR
