BEGIN:VCALENDAR
VERSION:2.0
CALSCALE:GREGORIAN
METHOD:PUBLISH
PRODID://BETH//1412642
BEGIN:VEVENT
DTSTAMP:20260424T090016
VTIMEZONE:America/Chicago
DTSTART:20260421T220000Z
DTEND:20260421T230000Z
UID:1412642
SUMMARY:Economic Development Committee
LOCATION:, IL
DESCRIPTION:Economic Development Committee\n\n04/21/26 05:00 PM CST\n - 04/21/26 06:00 PM CST
X-ALT-DESC;FMTTYPE=text/html:Economic Development Committee<br /><br />04/21/26 05:00 PM CST - 04/21/26 06:00 PM CST
PRIORITY:3
TRANSP:TRANSPARENT
BEGIN:VALARM
TRIGGER:-PT5M
ACTION:DISPLAY
DESCRIPTION:Reminder
END:VALARM
END:VEVENT
END:VCALENDAR
