BEGIN:VCALENDAR
VERSION:2.0
CALSCALE:GREGORIAN
METHOD:PUBLISH
PRODID://BETH//1412643
BEGIN:VEVENT
DTSTAMP:20260424T090018
VTIMEZONE:America/Chicago
DTSTART:20260723T220000Z
DTEND:20260723T230000Z
UID:1412643
SUMMARY:Economic Development Committee
LOCATION:, IL
DESCRIPTION:Economic Development Committee\n\n07/23/26 05:00 PM CST\n - 07/23/26 06:00 PM CST
X-ALT-DESC;FMTTYPE=text/html:Economic Development Committee<br /><br />07/23/26 05:00 PM CST - 07/23/26 06:00 PM CST
PRIORITY:3
TRANSP:TRANSPARENT
BEGIN:VALARM
TRIGGER:-PT5M
ACTION:DISPLAY
DESCRIPTION:Reminder
END:VALARM
END:VEVENT
END:VCALENDAR
