BEGIN:VCALENDAR
VERSION:2.0
CALSCALE:GREGORIAN
METHOD:PUBLISH
PRODID://BETH//1412644
BEGIN:VEVENT
DTSTAMP:20260424T090016
VTIMEZONE:America/Chicago
DTSTART:20261020T220000Z
DTEND:20261020T230000Z
UID:1412644
SUMMARY:Economic Development Committee
LOCATION:, IL
DESCRIPTION:Economic Development Committee\n\n10/20/26 05:00 PM CST\n - 10/20/26 06:00 PM CST
X-ALT-DESC;FMTTYPE=text/html:Economic Development Committee<br /><br />10/20/26 05:00 PM CST - 10/20/26 06:00 PM CST
PRIORITY:3
TRANSP:TRANSPARENT
BEGIN:VALARM
TRIGGER:-PT5M
ACTION:DISPLAY
DESCRIPTION:Reminder
END:VALARM
END:VEVENT
END:VCALENDAR
