BEGIN:VCALENDAR
VERSION:2.0
CALSCALE:GREGORIAN
METHOD:PUBLISH
PRODID://BETH//1412645
BEGIN:VEVENT
DTSTAMP:20260424T090017
VTIMEZONE:America/Chicago
DTSTART:20260617T120000Z
DTEND:20260624T044500Z
UID:1412645
SUMMARY:Air Race Classic
LOCATION:, IL
DESCRIPTION:Air Race Classic\n\n06/17/26 07:00 AM CST\n - 06/23/26 11:45 PM CST
X-ALT-DESC;FMTTYPE=text/html:Air Race Classic<br /><br />06/17/26 07:00 AM CST - 06/23/26 11:45 PM CST
PRIORITY:3
TRANSP:TRANSPARENT
BEGIN:VALARM
TRIGGER:-PT5M
ACTION:DISPLAY
DESCRIPTION:Reminder
END:VALARM
END:VEVENT
END:VCALENDAR
