BEGIN:VCALENDAR
VERSION:2.0
CALSCALE:GREGORIAN
METHOD:PUBLISH
PRODID://BETH//1412646
BEGIN:VEVENT
DTSTAMP:20260424T134241
VTIMEZONE:America/Chicago
DTSTART:20260926T140000Z
DTEND:20260927T220000Z
UID:1412646
SUMMARY:30th Annual Fly-In
LOCATION:, IL
DESCRIPTION:30th Annual Fly-In\n\n09/26/26 09:00 AM CST\n - 09/27/26 05:00 PM CST
X-ALT-DESC;FMTTYPE=text/html:30th Annual Fly-In<br /><br />09/26/26 09:00 AM CST - 09/27/26 05:00 PM CST
PRIORITY:3
TRANSP:TRANSPARENT
BEGIN:VALARM
TRIGGER:-PT5M
ACTION:DISPLAY
DESCRIPTION:Reminder
END:VALARM
END:VEVENT
END:VCALENDAR
