BEGIN:VCALENDAR
VERSION:2.0
CALSCALE:GREGORIAN
METHOD:PUBLISH
PRODID://BETH//1412648
BEGIN:VEVENT
DTSTAMP:20260424T150058
VTIMEZONE:America/Chicago
DTSTART:20261026T223000Z
DTEND:20261026T233000Z
UID:1412648
SUMMARY:Bethalto Halloween Parade
LOCATION:, IL
DESCRIPTION:Bethalto Halloween Parade\n\n10/26/26 05:30 PM CST\n - 10/26/26 06:30 PM CST
X-ALT-DESC;FMTTYPE=text/html:Bethalto Halloween Parade<br /><br />10/26/26 05:30 PM CST - 10/26/26 06:30 PM CST
PRIORITY:3
TRANSP:TRANSPARENT
BEGIN:VALARM
TRIGGER:-PT5M
ACTION:DISPLAY
DESCRIPTION:Reminder
END:VALARM
END:VEVENT
END:VCALENDAR
