BEGIN:VCALENDAR
VERSION:2.0
CALSCALE:GREGORIAN
METHOD:PUBLISH
PRODID://BETH//1412650
BEGIN:VEVENT
DTSTAMP:20260424T150058
VTIMEZONE:America/Chicago
DTSTART:20261127T233000Z
DTEND:20261128T003000Z
UID:1412650
SUMMARY:Christmas Village Parade
LOCATION:, IL
DESCRIPTION:Christmas Village Parade\n\n11/27/26 05:30 PM CST\n - 11/27/26 06:30 PM CST
X-ALT-DESC;FMTTYPE=text/html:Christmas Village Parade<br /><br />11/27/26 05:30 PM CST - 11/27/26 06:30 PM CST
PRIORITY:3
TRANSP:TRANSPARENT
BEGIN:VALARM
TRIGGER:-PT5M
ACTION:DISPLAY
DESCRIPTION:Reminder
END:VALARM
END:VEVENT
END:VCALENDAR
