BEGIN:VCALENDAR
VERSION:2.0
CALSCALE:GREGORIAN
METHOD:PUBLISH
PRODID://AZUS//1412687
BEGIN:VEVENT
DTSTAMP:20260424T140627
VTIMEZONE:America/Los_Angeles
DTSTART:20260221T010000Z
DTEND:20260221T030000Z
UID:1412687
SUMMARY:READY, SET, CERTIFY
LOCATION:, 240 W FOOTHILL BLVD, Azusa, CA, 91702
DESCRIPTION:READY, SET, CERTIFY\n\n02/20/26 05:00 PM PST\n - 02/20/26 07:00 PM PST\Description:\nRegistration Now Open\n\nDid you know Super Bowl LXI is coming to Los Angeles in 2027? Right now, supplier opportunities are opening for small businesses, and there are only 12 days left to position your business for consideration.\n\nIf you’re serious about growth in the SGV, this is your opportunity to move from preparation to action.\n\nReady, Set, Certify is a hands-on, two-part workshop designed to help you complete your certification and begin your supplier application with live guidance.\n\nFriday Night, February 20 | 5:00 PM – 7:00 PM\n\nCertification Workshop\nComplete your California Department of General Services certification step by step.\n\nSaturday Morning, February 21 | 8:00 AM – 10:30 AM\n\nApplication Submission Workshop\nWork through your supplier application while momentum is high and the deadline is still open.\n\nThis is a working session, not a lecture. Come prepared to make real progress.\n\nWhat You Need to Bring\n\n\n	\n	EIN\n	\n	\n	Articles of Incorporation\n	\n	\n	2024 Tax Returns\n	\n	\n	Laptop (strongly recommended)\n	\n\n\nHelpful Resources\n\n\n	\n	Super Bowl LXI Supplier Program: https://superbowl61suppliers.com/\n	\n	\n	Capability Statement Support: https://socalwins.org/\n	\n\n\nA capabilities statement will be needed to complete the supplier application, so we recommend reviewing the SoCal WINS resource in advance.\n\nIf you’ve been meaning to get certified, this is the moment to get it done with support and accountability.\n\nOpportunity favors businesses that are prepared, especially when the deadline is this close.\n\Location:\n\n240 W FOOTHILL BLVD\nAzusa, CA 91702
X-ALT-DESC;FMTTYPE=text/html:READY, SET, CERTIFY<br /><br />02/20/26 05:00 PM PST - 02/20/26 07:00 PM PST<br />Description:<br /><h2 data-end="237" data-start="213">Registration Now Open</h2>

<p data-end="475" data-start="265">Did you know Super Bowl LXI is coming to Los Angeles in 2027? Right now, supplier opportunities are opening for small businesses, and there are only <strong data-end="430" data-start="414">12 days left</strong> to position your business for consideration.</p>

<p data-end="580" data-start="477">If you&rsquo;re serious about growth in the SGV, this is your opportunity to move from preparation to action.</p>

<p data-end="743" data-start="582"><strong data-end="605" data-start="582">Ready, Set, Certify</strong> is a hands-on, two-part workshop designed to help you complete your certification and begin your supplier application with live guidance.</p>

<h3 data-end="796" data-start="745">Friday Night, February 20 | 5:00 PM &ndash; 7:00 PM</h3>

<p data-end="909" data-start="797"><strong data-end="823" data-start="797">Certification Workshop</strong><br data-end="826" data-start="823" />
Complete your California Department of General Services certification step by step.</p>

<h3 data-end="967" data-start="911">Saturday Morning, February 21 | 8:00 AM &ndash; 10:30 AM</h3>

<p data-end="1099" data-start="968"><strong data-end="1003" data-start="968">Application Submission Workshop</strong><br data-end="1006" data-start="1003" />
Work through your supplier application while momentum is high and the deadline is still open.</p>

<p data-end="1179" data-start="1101">This is a working session, not a lecture. Come prepared to make real progress.</p>

<h3 data-end="1207" data-start="1181">What You Need to Bring</h3>

<ul data-end="1298" data-start="1208">
	<li data-end="1215" data-start="1208">
	<p data-end="1215" data-start="1210">EIN</p>
	</li>
	<li data-end="1245" data-start="1216">
	<p data-end="1245" data-start="1218">Articles of Incorporation</p>
	</li>
	<li data-end="1266" data-start="1246">
	<p data-end="1266" data-start="1248">2024 Tax Returns</p>
	</li>
	<li data-end="1298" data-start="1267">
	<p data-end="1298" data-start="1269">Laptop (strongly recommended)</p>
	</li>
</ul>

<h3 data-end="1321" data-start="1300">Helpful Resources</h3>

<ul data-end="1449" data-start="1322">
	<li data-end="1392" data-start="1322">
	<p data-end="1392" data-start="1324">Super Bowl LXI Supplier Program: <a data-end="1390" data-start="1357" href="https://superbowl61suppliers.com/" rel="noopener" target="_new">https://superbowl61suppliers.com/</a></p>
	</li>
	<li data-end="1449" data-start="1393">
	<p data-end="1449" data-start="1395">Capability Statement Support: <a data-end="1447" data-start="1425" href="https://socalwins.org/" rel="noopener" target="_new">https://socalwins.org/</a></p>
	</li>
</ul>

<p data-end="1590" data-start="1451">A capabilities statement will be needed to complete the supplier application, so we recommend reviewing the SoCal WINS resource in advance.</p>

<p data-end="1699" data-start="1592">If you&rsquo;ve been meaning to get certified, this is the moment to get it done with support and accountability.</p>

<p data-end="1793" data-start="1701">Opportunity favors businesses that are prepared, especially when the deadline is this close.</p>
<br />Location:<br /><br />240 W FOOTHILL BLVD<br />Azusa, CA 91702
PRIORITY:3
TRANSP:TRANSPARENT
BEGIN:VALARM
TRIGGER:-PT5M
ACTION:DISPLAY
DESCRIPTION:Reminder
END:VALARM
END:VEVENT
END:VCALENDAR
