BEGIN:VCALENDAR
VERSION:2.0
CALSCALE:GREGORIAN
METHOD:PUBLISH
PRODID://CCCC//1413175
BEGIN:VEVENT
DTSTAMP:20260424T084740
VTIMEZONE:America/Los_Angeles
DTSTART:20260321T170000Z
DTEND:20260321T210000Z
UID:1413175
SUMMARY:Sacramento Valley History Expo
LOCATION:Sacramento Valley Museum, 1491 E Street, Williams, CA, 95987
DESCRIPTION:Sacramento Valley History Expo\n\n03/21/26 10:00 AM PST\n - 03/21/26 02:00 PM PST\Description:\nJoin us for a welcoming celebration to kick off our 2026 season!\n\nDiscover local museums, historical societies, genealogical societies, authors, historians, library archives, and so many more historical organizations!\n\nThere will be food and live entertainment as well as a raffle and live appraisals done by professional appraiser Erin Junge-Dewell.\n\nThe public is highly encouraged to attend this event and meet historians and historic resources in our area!\n\nIt will be held at the Sacramento Valley Museum\n1491 E Street, Williams, CA 95987 from 10:00am-2:00pm\Details:\nFREE EVENT\n\nDiscover local museums, historical societies, genealogical societies, authors, historians, library archives, and so many more historical organizations!\n\nThere will be food and live entertainment as well as a raffle and live appraisals done by professional appraiser Erin Junge-Dewell.\n\nThe public is highly encouraged to attend this event and meet historians and historic resources in our area!\nIt will be held at the Sacramento Valley Museum\n1491 E Street, Williams, CA 95987 from 10:00am-2:00pm\Location:\nSacramento Valley Museum\n1491 E Street\nWilliams, CA 95987
X-ALT-DESC;FMTTYPE=text/html:Sacramento Valley History Expo<br /><br />03/21/26 10:00 AM PST - 03/21/26 02:00 PM PST<br />Description:<br />Join us for a welcoming celebration to kick off our 2026 season!<br />
<br />
Discover local museums, historical societies, genealogical societies, authors, historians, library archives, and so many more historical organizations!<br />
<br />
There will be food and live entertainment as well as a raffle and live appraisals done by professional appraiser Erin Junge-Dewell.<br />
<br />
The public is highly encouraged to attend this event and meet historians and historic resources in our area!<br />
<br />
It will be held at the Sacramento Valley Museum<br />
1491 E Street, Williams, CA 95987 from 10:00am-2:00pm<br />Details:<br />FREE EVENT<br />
<br />
Discover local museums, historical societies, genealogical societies, authors, historians, library archives, and so many more historical organizations!<br />
<br />
There will be food and live entertainment as well as a raffle and live appraisals done by professional appraiser Erin Junge-Dewell.<br />
<br />
The public is highly encouraged to attend this event and meet historians and historic resources in our area!<br />
It will be held at the Sacramento Valley Museum<br />
1491 E Street, Williams, CA 95987 from 10:00am-2:00pm<br />Location:<br />Sacramento Valley Museum<br />1491 E Street<br />Williams, CA 95987
PRIORITY:3
TRANSP:TRANSPARENT
BEGIN:VALARM
TRIGGER:-PT5M
ACTION:DISPLAY
DESCRIPTION:Reminder
END:VALARM
END:VEVENT
END:VCALENDAR
