BEGIN:VCALENDAR
VERSION:2.0
CALSCALE:GREGORIAN
METHOD:PUBLISH
PRODID://JCOC//1413208
BEGIN:VEVENT
DTSTAMP:20260424T123213
VTIMEZONE:America/Chicago
DTSTART:20260221T153000Z
DTEND:20260221T193000Z
UID:1413208
SUMMARY:HOTWORX Tulsa Jenks 4th Birthday Celebration
LOCATION:HOTWORX TULSA JENKS, 9908 S Riverside Parkway, Tulsa, OK, 74137
DESCRIPTION:HOTWORX Tulsa Jenks 4th Birthday Celebration\n\n02/21/26 09:30 AM CST\n - 02/21/26 01:30 PM CST\Description:\nWe're turning 4!\n\nMeet Virtual Instructors Ashlee B & Brittany R. \nSample delicious drinks from Pure Kitchen Jenks\nDJ Oreo bringing the fun!\nGet free braids from Braid Bar\nCookie Mama\nReform Chiropractic\nSmoothie King\nBora Bora\nBlended & Brewed\nRestore Hyperwellness\nB12 shots & MORE\n\n2/21 9:30am-1:30pm\nfirst 25 get BIG swag bags!\n\nsee you there!\n \Details:\nWe're turning 4!\n\nMeet Virtual Instructors Ashlee B & Brittany R. \nSample delicious drinks from Pure Kitchen Jenks\nDJ Oreo bringing the fun!\nGet free braids from Braid Bar\nCookie Mama\nReform Chiropractic\nSmoothie King\nBora Bora\nBlended & Brewed\nRestore Hyperwellness\nB12 shots & MORE\n\n2/21 9:30am-1:30pm\nfirst 25 get BIG swag bags!\n\nsee you there!\n \Location:\nHOTWORX TULSA JENKS\n9908 S Riverside Parkway\nTulsa, OK 74137
X-ALT-DESC;FMTTYPE=text/html:HOTWORX Tulsa Jenks 4th Birthday Celebration<br /><br />02/21/26 09:30 AM CST - 02/21/26 01:30 PM CST<br />Description:<br />We're turning 4!<br />
<br />
Meet Virtual Instructors Ashlee B &amp; Brittany R.&nbsp;<br />
Sample delicious drinks from Pure Kitchen Jenks<br />
DJ Oreo bringing the fun!<br />
Get free braids from Braid Bar<br />
Cookie Mama<br />
Reform Chiropractic<br />
Smoothie King<br />
Bora Bora<br />
Blended &amp; Brewed<br />
Restore Hyperwellness<br />
B12 shots &amp; MORE<br />
<br />
2/21 9:30am-1:30pm<br />
first 25 get BIG swag bags!<br />
<br />
see you there!<br />
&nbsp;<br />Details:<br />We're turning 4!<br />
<br />
Meet Virtual Instructors Ashlee B &amp; Brittany&nbsp;R.&nbsp;<br />
Sample delicious drinks from Pure Kitchen&nbsp;Jenks<br />
DJ Oreo bringing the fun!<br />
Get free braids from Braid Bar<br />
Cookie Mama<br />
Reform Chiropractic<br />
Smoothie King<br />
Bora Bora<br />
Blended &amp; Brewed<br />
Restore&nbsp;Hyperwellness<br />
B12 shots &amp; MORE<br />
<br />
2/21 9:30am-1:30pm<br />
first&nbsp;25 get BIG swag bags!<br />
<br />
see you there!<br />
&nbsp;<br />Location:<br />HOTWORX TULSA JENKS<br />9908 S Riverside Parkway<br />Tulsa, OK 74137
PRIORITY:3
TRANSP:TRANSPARENT
BEGIN:VALARM
TRIGGER:-PT5M
ACTION:DISPLAY
DESCRIPTION:Reminder
END:VALARM
END:VEVENT
END:VCALENDAR
