BEGIN:VCALENDAR
VERSION:2.0
CALSCALE:GREGORIAN
METHOD:PUBLISH
PRODID://BCCC//1413224
BEGIN:VEVENT
DTSTAMP:20260424T134728
VTIMEZONE:America/Los_Angeles
DTSTART:20260220T013000Z
DTEND:20260220T023000Z
UID:1413224
SUMMARY:Lady Boutique Ribbon Cutting
LOCATION:Lady Boutique, 521 Nevada Way, Boulder City, NV, 89005
DESCRIPTION:Lady Boutique Ribbon Cutting\n\n02/19/26 05:30 PM PST\n - 02/19/26 06:30 PM PST\Description:\nJoin us as we welcome Lady Boutique to the Boulder City Chamber Family!\Location:\nLady Boutique\n521 Nevada Way\nBoulder City, NV 89005
X-ALT-DESC;FMTTYPE=text/html:Lady Boutique Ribbon Cutting<br /><br />02/19/26 05:30 PM PST - 02/19/26 06:30 PM PST<br />Description:<br />Join us as we welcome Lady Boutique to the Boulder City Chamber Family!<br />Location:<br />Lady Boutique<br />521 Nevada Way<br />Boulder City, NV 89005
PRIORITY:3
TRANSP:TRANSPARENT
BEGIN:VALARM
TRIGGER:-PT5M
ACTION:DISPLAY
DESCRIPTION:Reminder
END:VALARM
END:VEVENT
END:VCALENDAR
